BEGIN:VCALENDAR
PRODID:-//github.com/rianjs/ical.net//NONSGML ical.net 4.0//EN
VERSION:2.0
BEGIN:VEVENT
DESCRIPTION:Underveissamtaler
DTEND:20231103T150000
DTSTAMP:20260422T155026Z
DTSTART:20231030T140000
SEQUENCE:0
SUMMARY:Underveissamtaler
UID:3954694c-4768-4cbb-b76a-ac1d76a93440
END:VEVENT
END:VCALENDAR
