BEGIN:VCALENDAR
PRODID:-//github.com/rianjs/ical.net//NONSGML ical.net 4.0//EN
VERSION:2.0
BEGIN:VEVENT
DESCRIPTION:Vinterferie
DTEND:20270226T000000
DTSTAMP:20260423T144411Z
DTSTART:20270222T000000
SEQUENCE:0
SUMMARY:Vinterferie
UID:42450def-9c05-4d17-9d4a-b0ee39f2654e
END:VEVENT
END:VCALENDAR
