BEGIN:VCALENDAR
PRODID:-//github.com/rianjs/ical.net//NONSGML ical.net 4.0//EN
VERSION:2.0
BEGIN:VEVENT
DESCRIPTION:Første skoledag etter sommerferien
DTEND:20260817T000000
DTSTAMP:20260423T145228Z
DTSTART:20260817T000000
SEQUENCE:0
SUMMARY:Første skoledag etter sommerferien
UID:513d8914-19f6-410c-b97b-2ddb580f98ca
END:VEVENT
END:VCALENDAR
