BEGIN:VCALENDAR
PRODID:-//github.com/rianjs/ical.net//NONSGML ical.net 4.0//EN
VERSION:2.0
BEGIN:VEVENT
DESCRIPTION:Påskeferie 2027
DTEND:20270330T235959
DTSTAMP:20260423T144510Z
DTSTART;VALUE=DATE:20270322
SEQUENCE:0
SUMMARY:Påskeferie 2027
UID:0ef5e9fb-27a1-44b4-8cf3-8bb38f72a4e2
END:VEVENT
END:VCALENDAR
