BEGIN:VCALENDAR
PRODID:-//github.com/rianjs/ical.net//NONSGML ical.net 4.0//EN
VERSION:2.0
BEGIN:VEVENT
DESCRIPTION:Test på demoskole
DTEND:20260423T235959
DTSTAMP:20260423T145123Z
DTSTART;VALUE=DATE:20260423
LOCATION:test
SEQUENCE:0
SUMMARY:Test på demoskole
UID:7809c04e-ff88-4276-84c3-9e1d473f767f
END:VEVENT
END:VCALENDAR
